BEGIN:VCALENDAR
VERSION:2.0
PRODID:-//Apex Canvas - ECPv6.15.17.1//NONSGML v1.0//EN
CALSCALE:GREGORIAN
METHOD:PUBLISH
X-WR-CALNAME:Apex Canvas
X-ORIGINAL-URL:https://apexcanvas.com
X-WR-CALDESC:Events for Apex Canvas
REFRESH-INTERVAL;VALUE=DURATION:PT1H
X-Robots-Tag:noindex
X-PUBLISHED-TTL:PT1H
BEGIN:VTIMEZONE
TZID:UTC
BEGIN:STANDARD
TZOFFSETFROM:+0000
TZOFFSETTO:+0000
TZNAME:UTC
DTSTART:20250101T000000
END:STANDARD
END:VTIMEZONE
BEGIN:VEVENT
DTSTART;VALUE=DATE:20260525
DTEND;VALUE=DATE:20260526
DTSTAMP:20260425T155331
CREATED:20250227T180944Z
LAST-MODIFIED:20260310T181018Z
UID:521-1779667200-1779753599@apexcanvas.com
SUMMARY:Memorial Day-Closed-No Production
DESCRIPTION:
URL:https://apexcanvas.com/event/memorial-day-closed/
END:VEVENT
BEGIN:VEVENT
DTSTART;VALUE=DATE:20260629
DTEND;VALUE=DATE:20260704
DTSTAMP:20260425T155331
CREATED:20260422T131007Z
LAST-MODIFIED:20260422T131114Z
UID:565-1782691200-1783123199@apexcanvas.com
SUMMARY:4th of July Shutdown-No Production
DESCRIPTION:
URL:https://apexcanvas.com/event/4th-of-july-shutdown-no-production/
END:VEVENT
BEGIN:VEVENT
DTSTART;VALUE=DATE:20260907
DTEND;VALUE=DATE:20260908
DTSTAMP:20260425T155331
CREATED:20250227T181312Z
LAST-MODIFIED:20260310T181109Z
UID:523-1788739200-1788825599@apexcanvas.com
SUMMARY:Labor Day-Closed-No Production
DESCRIPTION:
URL:https://apexcanvas.com/event/labor-day-closed/
END:VEVENT
BEGIN:VEVENT
DTSTART;VALUE=DATE:20261006
DTEND;VALUE=DATE:20261009
DTSTAMP:20260425T155331
CREATED:20250228T132532Z
LAST-MODIFIED:20260310T181226Z
UID:534-1791244800-1791503999@apexcanvas.com
SUMMARY:IBEX 2026
DESCRIPTION:
URL:https://apexcanvas.com/event/ibex-2026/
LOCATION:Tampa Convention Center\, Tampa\, FL\, United States
END:VEVENT
END:VCALENDAR